BEGIN:VCALENDAR
VERSION:2.0
PRODID:-//casaofappalachianmtns.org//NONSGML kigkonsult.se iCalcreator 2.30
 .10//
CALSCALE:GREGORIAN
METHOD:PUBLISH
UID:caec716b-c487-47cf-9206-e7368157dc66
X-WR-CALDESC:Join us at the Care Cottage for their Darkness to Light traini
 ng! Attendees must pre-register!
X-WR-RELCALID:d1d1ba0c50e65de234313e4ebea47acc
X-WR-TIMEZONE:America/New_York
BEGIN:VTIMEZONE
TZID:America/New_York
BEGIN:STANDARD
TZNAME:EST
DTSTART:20241103T020000
TZOFFSETFROM:-0400
TZOFFSETTO:-0500
RDATE:20251102T020000
RDATE:20261101T020000
END:STANDARD
BEGIN:DAYLIGHT
TZNAME:EDT
DTSTART:20250309T020000
TZOFFSETFROM:-0500
TZOFFSETTO:-0400
RDATE:20260308T020000
END:DAYLIGHT
END:VTIMEZONE
BEGIN:VEVENT
UID:cd6a96e0-13df-41cd-83a0-0eb78e1d2dec
DTSTAMP:20260423T233831Z
DESCRIPTION:Join us at the Care Cottage for their Darkness to Light trainin
 g! Attendees must pre-register!
DTSTART;TZID=America/New_York:20250509T160000
DTEND;TZID=America/New_York:20250509T183000
LOCATION:465 Cedar Street \, Hazard\, KY 41701 US
SUMMARY:Darkness to Light Training
END:VEVENT
END:VCALENDAR
