BEGIN:VCALENDAR
VERSION:2.0
PRODID:-//casaofappalachianmtns.org//NONSGML kigkonsult.se iCalcreator 2.30
 .10//
CALSCALE:GREGORIAN
METHOD:PUBLISH
UID:9fa2d100-1bfb-46d5-92c9-7c4314ebf14d
X-WR-CALDESC:
X-WR-RELCALID:9413e895206fdcb3a43c6397b407eb15
X-WR-TIMEZONE:America/New_York
BEGIN:VTIMEZONE
TZID:America/New_York
BEGIN:STANDARD
TZNAME:EST
DTSTART:20241103T020000
TZOFFSETFROM:-0400
TZOFFSETTO:-0500
RDATE:20251102T020000
RDATE:20261101T020000
END:STANDARD
BEGIN:DAYLIGHT
TZNAME:EDT
DTSTART:20250309T020000
TZOFFSETFROM:-0500
TZOFFSETTO:-0400
RDATE:20260308T020000
END:DAYLIGHT
END:VTIMEZONE
BEGIN:VEVENT
UID:80ef7079-bf6f-4c76-8032-239b954ad68b
DTSTAMP:20260423T234159Z
DESCRIPTION:
DTSTART;TZID=America/New_York:20250515T170000
DTEND;TZID=America/New_York:20250515T183000
LOCATION:Contact CASA to get started today!
SUMMARY:Volunteer Training
END:VEVENT
END:VCALENDAR
