BEGIN:VCALENDAR
VERSION:2.0
PRODID:-//casaofappalachianmtns.org//NONSGML kigkonsult.se iCalcreator 2.30
 .10//
CALSCALE:GREGORIAN
METHOD:PUBLISH
UID:60d87488-a313-4a31-b410-ab99a4a007c8
X-WR-CALDESC:
X-WR-RELCALID:2008aed09e87acbf708e82f0bc162710
X-WR-TIMEZONE:America/New_York
BEGIN:VTIMEZONE
TZID:America/New_York
BEGIN:STANDARD
TZNAME:EST
DTSTART:20241103T020000
TZOFFSETFROM:-0400
TZOFFSETTO:-0500
RDATE:20251102T020000
RDATE:20261101T020000
END:STANDARD
BEGIN:DAYLIGHT
TZNAME:EDT
DTSTART:20250309T020000
TZOFFSETFROM:-0500
TZOFFSETTO:-0400
RDATE:20260308T020000
END:DAYLIGHT
END:VTIMEZONE
BEGIN:VEVENT
UID:3d9f20df-83f2-4383-adff-57e7a8e12abc
DTSTAMP:20260423T221046Z
DESCRIPTION:
DTSTART;TZID=America/New_York:20250605T170000
DTEND;TZID=America/New_York:20250605T183000
LOCATION:Contact CASA to get started today!
SUMMARY:Volunteer Training
END:VEVENT
END:VCALENDAR
