BEGIN:VCALENDAR
VERSION:2.0
PRODID:-//casaofappalachianmtns.org//NONSGML kigkonsult.se iCalcreator 2.30
 .10//
CALSCALE:GREGORIAN
METHOD:PUBLISH
UID:2b4679ab-80e7-4efa-8326-8fba1203a324
X-WR-CALDESC:This is open for locals and off-roaders to participate in! You
 're encouraged to decorate your vehicle/machine\, throw on a costume\, and
  hand out some yummy candy! Let's make this a fun night for kids and adult
 s of all ages! (EVERYONE is welcome)! \n\n Friday:\n(5-7pm)  Trunk or trea
 t // Raffle // 50/50 Sales \n(7pm)      Drawing for raffles and 50/50\n(8p
 m)     Group night ride \n\nSaturday:\n(10am)  Group ride ($20 per machine
 ) \n\n\n
X-WR-RELCALID:744fa33b757be5ca135d36c912fe046b
X-WR-TIMEZONE:America/New_York
BEGIN:VTIMEZONE
TZID:America/New_York
BEGIN:STANDARD
TZNAME:EST
DTSTART:20241103T020000
TZOFFSETFROM:-0400
TZOFFSETTO:-0500
RDATE:20251102T020000
RDATE:20261101T020000
END:STANDARD
BEGIN:DAYLIGHT
TZNAME:EDT
DTSTART:20250309T020000
TZOFFSETFROM:-0500
TZOFFSETTO:-0400
RDATE:20260308T020000
RDATE:20270314T020000
END:DAYLIGHT
END:VTIMEZONE
BEGIN:VEVENT
UID:3389f47c-bfbd-49a0-9f3f-1423c2fa3d6a
DTSTAMP:20260423T154732Z
DESCRIPTION:This is open for locals and off-roaders to participate in! You'
 re encouraged to decorate your vehicle/machine\, throw on a costume\, and 
 hand out some yummy candy! Let's make this a fun night for kids and adults
  of all ages! (EVERYONE is welcome)! \n\n Friday:\n(5-7pm)  Trunk or treat
  // Raffle // 50/50 Sales \n(7pm)      Drawing for raffles and 50/50\n(8pm
 )     Group night ride \n\nSaturday:\n(10am)  Group ride ($20 per machine)
  \n\n\n
DTSTART;TZID=America/New_York:20251017T170000
DTEND;TZID=America/New_York:20251018T160000
LOCATION:750 Sutton Memorial Drive \, Leburn\, KY 41831 US
SUMMARY:Trail Ride and Trunk or Treat
END:VEVENT
END:VCALENDAR
