BEGIN:VCALENDAR
VERSION:2.0
PRODID:-//casaofappalachianmtns.org//NONSGML kigkonsult.se iCalcreator 2.30
 .10//
CALSCALE:GREGORIAN
METHOD:PUBLISH
UID:f7e4fb12-8ba2-45a6-94c7-96ab744030d2
X-WR-CALDESC:š® Youāre Invited\, CASA Heroes! š®\n\nItās time to celebrate YO
 Uāour incredible CASA volunteers who give your time\, heart\, and voice to
  the children who need it most. Weāre so excited to invite you to our Annu
 al Volunteer Appreciation Event at our Prestonsburg office!\n\nJoin us for
  an afternoon filled with laughter\, gratitude\, and a whole lot of fun:\n
 \nānā Taco Bar Fiesta ā Build your dream taco and enjoy a delicious meal on 
 us!\nš²Bingo Fun & Prizes ā Bring your lucky charm and play for a chance to
  win!\nšSpecial Gift ā Because you deserve a little something extra from a
 ll of us.\n\nWe canāt wait to celebrate YOU and all the amazing work you d
 o. Your dedication makes all the difference\, and weāre so grateful to hav
 e you in the CASA family!
X-WR-RELCALID:b8eb090ce791597fe307ee08eefec6d1
X-WR-TIMEZONE:America/New_York
BEGIN:VTIMEZONE
TZID:America/New_York
BEGIN:STANDARD
TZNAME:EST
DTSTART:20241103T020000
TZOFFSETFROM:-0400
TZOFFSETTO:-0500
RDATE:20251102T020000
RDATE:20261101T020000
END:STANDARD
BEGIN:DAYLIGHT
TZNAME:EDT
DTSTART:20250309T020000
TZOFFSETFROM:-0500
TZOFFSETTO:-0400
RDATE:20260308T020000
RDATE:20270314T020000
END:DAYLIGHT
END:VTIMEZONE
BEGIN:VEVENT
UID:007b1303-d051-49cf-9fcc-481de761af27
DTSTAMP:20260423T154900Z
DESCRIPTION:š® Youāre Invited\, CASA Heroes! š®\n\nItās time to celebrate YOU
 āour incredible CASA volunteers who give your time\, heart\, and voice to 
 the children who need it most. Weāre so excited to invite you to our Annua
 l Volunteer Appreciation Event at our Prestonsburg office!\n\nJoin us for 
 an afternoon filled with laughter\, gratitude\, and a whole lot of fun:\n
 \nānā Taco Bar Fiesta ā Build your dream taco and enjoy a delicious meal on 
 us!\nš²Bingo Fun & Prizes ā Bring your lucky charm and play for a chance to
  win!\nšSpecial Gift ā Because you deserve a little something extra from a
 ll of us.\n\nWe canāt wait to celebrate YOU and all the amazing work you d
 o. Your dedication makes all the difference\, and weāre so grateful to hav
 e you in the CASA family!
DTSTART;TZID=America/New_York:20251024T170000
DTEND;TZID=America/New_York:20251024T190000
LOCATION:222 West Court Street \, Prestonsburg\, AL 41653 US
SUMMARY:Volunteer Appreciation Event
END:VEVENT
END:VCALENDAR
